BEGIN:VCALENDAR
VERSION:2.0
PRODID:icalendar-ruby
CALSCALE:GREGORIAN
METHOD:PUBLISH
BEGIN:VEVENT
DTSTAMP:20260425T182813Z
UID:241-5346635@cathedralhamilton.ca
DTSTART:20260528T213000Z
DTEND:20260529T023000Z
CLASS:PUBLIC
CREATED:20260423T153528
DESCRIPTION:Bishop Susan Bell would like to invite the parishioners of Chri
 st’s Church Cathedral to attend the 2026 Bishop’s Company Fundraising 
 Dinner on May 28\, 2026.  Proceeds from the dinner provide vital discreti
 onary funding that allows the bishop to respond strategically and compassi
 onately to the emerging needs of our diocesan leaders\, both lay and ordai
 ned.\nFor the first time in it’s history\, the Bishop’s Company Annual
  Fundraising Dinner will be open to the public! Tickets for non-members ar
 e $175 each\, and include a 3-course meal\, pre-dinner reception\, complim
 entary beverage\, and a charitable receipt for a portion of the ticket.  
 Additionally\, a parish table of eight can be purchased for $1000 inclusiv
 e ($125 each).  \nThe dinner will be hosted at Carmen Events Centre in H
 amilton\, where Bishop Susan will be joined by Archbishop Shane Parker\, 1
 5th Primate of the Anglican Church of Canada.  The event will also includ
 e a silent auction\, complimentary photobooth\, and musical entertainment 
 during the reception.\nThe pre-dinner reception will start at 5:30 pm\, wi
 th opening remarks starting at 6:30pm. \nNOTE:  Tickets are available st
 arting May 1\, with final numbers required by May 14.\nTo secure your tick
 ets\, please visit the event page using the Registration button below.  S
 hould you have any questions\, please contact Hannah Keller\, Registrar fo
 r the Bishop's Company. She can be  reached at hannah.keller@niagaraangli
 can.ca or by calling 905-527-1316 ext. 380. 
LAST-MODIFIED:20260423T153528
LOCATION:Carmen Events Centre\, 1520 Stone Church Rd E\, Hamilton ON L8W 3P
 9 
SUMMARY:You’re invited to the Bishop’s Company
URL;VALUE=URI:https://cathedralhamilton.ca/events/you-re-invited-to-the-bis
 hop-s-company/2026-05-28
ATTACH;FILENAME=Bishops-Company-Logo.jpg;FMTTYPE=image/jpeg:https://dq5pwpg
 1q8ru0.cloudfront.net/2026/04/22/22/51/38/7abe9c09-3831-4533-9473-d674d976
 e291/Bishops-Company-Logo.jpg
END:VEVENT
END:VCALENDAR
