BEGIN:VCALENDAR
VERSION:2.0
PRODID:icalendar-ruby
CALSCALE:GREGORIAN
METHOD:PUBLISH
BEGIN:VEVENT
DTSTAMP:20260419T211918Z
UID:148-5254260@cathedralhamilton.ca
DTSTART:20260922T123000Z
DTEND:20260922T130000Z
CLASS:PUBLIC
CREATED:20260419T150734
DESCRIPTION:An in-person Morning Prayer Service for our parishioners\, memb
 ers of our community\, and our friends.   We're here for you!
LAST-MODIFIED:20260419T150734
LOCATION:Christ's Church Cathedral\, 252 James St. N.\, Hamilton\, ON
SUMMARY:Morning Prayer Service
URL;VALUE=URI:https://cathedralhamilton.ca/events/morning-prayer-service--1
 48/2026-09-22
ATTACH;FILENAME=Morning-Prayer.jpg;FMTTYPE=image/jpeg:https://dq5pwpg1q8ru0
 .cloudfront.net/2024/03/13/19/53/05/214f004b-b1fa-4526-80e5-eb2b52c305ae/M
 orning-Prayer.jpg
END:VEVENT
END:VCALENDAR
