BEGIN:VCALENDAR
VERSION:2.0
PRODID:icalendar-ruby
CALSCALE:GREGORIAN
METHOD:PUBLISH
BEGIN:VEVENT
DTSTAMP:20260425T173435Z
UID:159-5392602@cathedralhamilton.ca
DTSTART:20261022T153000Z
DTEND:20261022T161500Z
CLASS:PUBLIC
CREATED:20260425T123637
DESCRIPTION:Study the Bible in community through this drop-in participant-f
 ocused method of reading scripture together.  Discovery Bible Study is de
 signed to meet the spiritual needs of our participants by considering what
  the biblical text tells us about God and human beings. \nYou'll find us 
 in the nave on Thursdays.  All are welcome!\n \n 
LAST-MODIFIED:20260425T123637
LOCATION:Christ's Church Cathedral\, 252 James St. N.\, Hamilton\, ON
SUMMARY:Discovery Bible Study
URL;VALUE=URI:https://cathedralhamilton.ca/events/discovery-bible-study/202
 6-10-22
ATTACH;FILENAME=Bible-Study.jpg;FMTTYPE=image/jpeg:https://dq5pwpg1q8ru0.cl
 oudfront.net/2024/05/20/17/46/38/c364ae36-8728-4590-b736-e13c035c0dbc/Bibl
 e-Study.jpg
END:VEVENT
END:VCALENDAR
