BEGIN:VCALENDAR
VERSION:2.0
PRODID:icalendar-ruby
CALSCALE:GREGORIAN
METHOD:PUBLISH
BEGIN:VEVENT
DTSTAMP:20260422T120901Z
UID:46-5313779@cathedralhamilton.ca
DTSTART:20261101T153000Z
DTEND:20261101T163000Z
CLASS:PUBLIC
CREATED:20260422T072020
DESCRIPTION:Worship lies at the heart of Christian life.  It is in worship
  that we express our theology and define our identity.  It is through enc
 ountering God within worship that we are formed and transformed as the peo
 ple of God.  \nAll are welcome.  Please join us.\nOrder of Service  
LAST-MODIFIED:20260422T072020
LOCATION:Christ's Church Cathedral\, 252 James St. North\, Hamilton\, ON & 
 on YouTube
SUMMARY:Choral Eucharist
URL;VALUE=URI:https://cathedralhamilton.ca/events/choral-eucharist--46/2026
 -11-01
ATTACH;FILENAME=eucharist.png;FMTTYPE=image/png:https://dq5pwpg1q8ru0.cloud
 front.net/2022/03/21/08/53/00/a1d785f8-c187-462c-a9dc-42683be397d7/euchari
 st.png
END:VEVENT
END:VCALENDAR
